BEGIN:VCALENDAR
VERSION:2.0
PRODID:-//Desiree Lowe - Bible Teacher &amp; Speaker - ECPv6.15.20//NONSGML v1.0//EN
CALSCALE:GREGORIAN
METHOD:PUBLISH
X-WR-CALNAME:Desiree Lowe - Bible Teacher &amp; Speaker
X-ORIGINAL-URL:https://www.desireelowe.com
X-WR-CALDESC:Events for Desiree Lowe - Bible Teacher &amp; Speaker
REFRESH-INTERVAL;VALUE=DURATION:PT1H
X-Robots-Tag:noindex
X-PUBLISHED-TTL:PT1H
BEGIN:VTIMEZONE
TZID:America/New_York
BEGIN:DAYLIGHT
TZOFFSETFROM:-0500
TZOFFSETTO:-0400
TZNAME:EDT
DTSTART:20240310T070000
END:DAYLIGHT
BEGIN:STANDARD
TZOFFSETFROM:-0400
TZOFFSETTO:-0500
TZNAME:EST
DTSTART:20241103T060000
END:STANDARD
BEGIN:DAYLIGHT
TZOFFSETFROM:-0500
TZOFFSETTO:-0400
TZNAME:EDT
DTSTART:20250309T070000
END:DAYLIGHT
BEGIN:STANDARD
TZOFFSETFROM:-0400
TZOFFSETTO:-0500
TZNAME:EST
DTSTART:20251102T060000
END:STANDARD
BEGIN:DAYLIGHT
TZOFFSETFROM:-0500
TZOFFSETTO:-0400
TZNAME:EDT
DTSTART:20260308T070000
END:DAYLIGHT
BEGIN:STANDARD
TZOFFSETFROM:-0400
TZOFFSETTO:-0500
TZNAME:EST
DTSTART:20261101T060000
END:STANDARD
END:VTIMEZONE
BEGIN:VEVENT
DTSTART;TZID=America/New_York:20250514T183000
DTEND;TZID=America/New_York:20250514T193000
DTSTAMP:20260420T235351
CREATED:20250506T231924Z
LAST-MODIFIED:20250506T231924Z
UID:334-1747247400-1747251000@www.desireelowe.com
SUMMARY:Parables of Jesus - Grace University
DESCRIPTION:
URL:https://www.desireelowe.com/event/parables-of-jesus-grace-university-2/
LOCATION:Grace Baptist Church\, 7171 Oak Ridge Highway\, Knoxville\, TN\, 37931\, United States
END:VEVENT
BEGIN:VEVENT
DTSTART;TZID=America/New_York:20250507T183000
DTEND;TZID=America/New_York:20250507T193500
DTSTAMP:20260420T235351
CREATED:20250506T231646Z
LAST-MODIFIED:20250506T231831Z
UID:329-1746642600-1746646500@www.desireelowe.com
SUMMARY:Parables of Jesus - Grace University
DESCRIPTION:
URL:https://www.desireelowe.com/event/parables-of-jesus-grace-university/
LOCATION:Grace Baptist Church\, 7171 Oak Ridge Highway\, Knoxville\, TN\, 37931\, United States
END:VEVENT
BEGIN:VEVENT
DTSTART;TZID=America/New_York:20250501T183000
DTEND;TZID=America/New_York:20250501T200000
DTSTAMP:20260420T235351
CREATED:20250403T010847Z
LAST-MODIFIED:20250403T011218Z
UID:171-1746124200-1746129600@www.desireelowe.com
SUMMARY:Women of the Word - Ephesians
DESCRIPTION:
URL:https://www.desireelowe.com/event/women-of-the-word-9/
LOCATION:Grace Baptist Church – GSM\, 5920 Beaver Ridge Road\, Knoxville\, TN\, 37931\, United States
END:VEVENT
BEGIN:VEVENT
DTSTART;TZID=America/New_York:20250429T103000
DTEND;TZID=America/New_York:20250429T120000
DTSTAMP:20260420T235351
CREATED:20250403T005953Z
LAST-MODIFIED:20250403T011225Z
UID:167-1745922600-1745928000@www.desireelowe.com
SUMMARY:Women of the Word - Ephesians
DESCRIPTION:
URL:https://www.desireelowe.com/event/women-of-the-word-8/
LOCATION:Grace Baptist Church – GSM\, 5920 Beaver Ridge Road\, Knoxville\, TN\, 37931\, United States
END:VEVENT
BEGIN:VEVENT
DTSTART;TZID=America/New_York:20250423T080000
DTEND;TZID=America/New_York:20250423T100000
DTSTAMP:20260420T235351
CREATED:20250403T005212Z
LAST-MODIFIED:20250404T010351Z
UID:156-1745395200-1745402400@www.desireelowe.com
SUMMARY:Ministry Administrative Assistant Appreciation - Cedar Springs Christian Store
DESCRIPTION:We would like you to invite your Church Secretaries to our Annual Appreciation Breakfast on Wednesday\, April 23rd at 8 a.m.
URL:https://www.desireelowe.com/event/ministry-admin-assistant-appreciation-cedar-springs-christian-store/
LOCATION:Cedar Springs Christian Store\, 504 North Peters Road\, Knoxville\, TN\, 37922\, United States
END:VEVENT
BEGIN:VEVENT
DTSTART;TZID=America/New_York:20250417T183000
DTEND;TZID=America/New_York:20250417T200000
DTSTAMP:20260420T235351
CREATED:20250403T005642Z
LAST-MODIFIED:20250403T011241Z
UID:161-1744914600-1744920000@www.desireelowe.com
SUMMARY:Women of the Word - Ephesians
DESCRIPTION:
URL:https://www.desireelowe.com/event/women-of-the-word-5/
LOCATION:Grace Baptist Church – GSM\, 5920 Beaver Ridge Road\, Knoxville\, TN\, 37931\, United States
END:VEVENT
BEGIN:VEVENT
DTSTART;TZID=America/New_York:20250415T103000
DTEND;TZID=America/New_York:20250415T120000
DTSTAMP:20260420T235351
CREATED:20250403T005607Z
LAST-MODIFIED:20250403T011246Z
UID:159-1744713000-1744718400@www.desireelowe.com
SUMMARY:Women of the Word - Ephesians
DESCRIPTION:
URL:https://www.desireelowe.com/event/women-of-the-word-4/
LOCATION:Grace Baptist Church – GSM\, 5920 Beaver Ridge Road\, Knoxville\, TN\, 37931\, United States
END:VEVENT
BEGIN:VEVENT
DTSTART;TZID=America/New_York:20250410T183000
DTEND;TZID=America/New_York:20250410T200000
DTSTAMP:20260420T235351
CREATED:20250402T153240Z
LAST-MODIFIED:20250403T011251Z
UID:153-1744309800-1744315200@www.desireelowe.com
SUMMARY:Women of the Word - Ephesians
DESCRIPTION:
URL:https://www.desireelowe.com/event/women-of-the-word-3/
LOCATION:Grace Baptist Church – GSM\, 5920 Beaver Ridge Road\, Knoxville\, TN\, 37931\, United States
END:VEVENT
BEGIN:VEVENT
DTSTART;TZID=America/New_York:20250408T103000
DTEND;TZID=America/New_York:20250408T120000
DTSTAMP:20260420T235351
CREATED:20250402T153137Z
LAST-MODIFIED:20250403T011256Z
UID:151-1744108200-1744113600@www.desireelowe.com
SUMMARY:Women of the Word - Ephesians
DESCRIPTION:
URL:https://www.desireelowe.com/event/women-of-the-word-2/
LOCATION:Grace Baptist Church – GSM\, 5920 Beaver Ridge Road\, Knoxville\, TN\, 37931\, United States
END:VEVENT
BEGIN:VEVENT
DTSTART;TZID=America/New_York:20250403T183000
DTEND;TZID=America/New_York:20250403T200000
DTSTAMP:20260420T235351
CREATED:20250402T152125Z
LAST-MODIFIED:20250403T011304Z
UID:146-1743705000-1743710400@www.desireelowe.com
SUMMARY:Women of the Word - Ephesians
DESCRIPTION:
URL:https://www.desireelowe.com/event/women-of-the-word/
LOCATION:Grace Baptist Church – GSM\, 5920 Beaver Ridge Road\, Knoxville\, TN\, 37931\, United States
END:VEVENT
END:VCALENDAR