BEGIN:VCALENDAR
VERSION:2.0
PRODID:-//Desiree Lowe - Bible Teacher &amp; Speaker - ECPv6.15.20//NONSGML v1.0//EN
CALSCALE:GREGORIAN
METHOD:PUBLISH
X-WR-CALNAME:Desiree Lowe - Bible Teacher &amp; Speaker
X-ORIGINAL-URL:https://www.desireelowe.com
X-WR-CALDESC:Events for Desiree Lowe - Bible Teacher &amp; Speaker
REFRESH-INTERVAL;VALUE=DURATION:PT1H
X-Robots-Tag:noindex
X-PUBLISHED-TTL:PT1H
BEGIN:VTIMEZONE
TZID:America/New_York
BEGIN:DAYLIGHT
TZOFFSETFROM:-0500
TZOFFSETTO:-0400
TZNAME:EDT
DTSTART:20240310T070000
END:DAYLIGHT
BEGIN:STANDARD
TZOFFSETFROM:-0400
TZOFFSETTO:-0500
TZNAME:EST
DTSTART:20241103T060000
END:STANDARD
BEGIN:DAYLIGHT
TZOFFSETFROM:-0500
TZOFFSETTO:-0400
TZNAME:EDT
DTSTART:20250309T070000
END:DAYLIGHT
BEGIN:STANDARD
TZOFFSETFROM:-0400
TZOFFSETTO:-0500
TZNAME:EST
DTSTART:20251102T060000
END:STANDARD
BEGIN:DAYLIGHT
TZOFFSETFROM:-0500
TZOFFSETTO:-0400
TZNAME:EDT
DTSTART:20260308T070000
END:DAYLIGHT
BEGIN:STANDARD
TZOFFSETFROM:-0400
TZOFFSETTO:-0500
TZNAME:EST
DTSTART:20261101T060000
END:STANDARD
END:VTIMEZONE
BEGIN:VEVENT
DTSTART;TZID=America/New_York:20250903T183000
DTEND;TZID=America/New_York:20250903T193000
DTSTAMP:20260420T145120
CREATED:20250730T143030Z
LAST-MODIFIED:20250730T143612Z
UID:389-1756924200-1756927800@www.desireelowe.com
SUMMARY:Becoming a Woman of the Word
DESCRIPTION:
URL:https://www.desireelowe.com/event/becoming-a-woman-of-the-word-4/
LOCATION:Grace Baptist Church – Oak Ridge\, 130 Providence Road\, Oak Ridge\, TN\, 37830\, United States
END:VEVENT
BEGIN:VEVENT
DTSTART;TZID=America/New_York:20250909T100000
DTEND;TZID=America/New_York:20250909T113000
DTSTAMP:20260420T145120
CREATED:20250730T145440Z
LAST-MODIFIED:20250909T002150Z
UID:403-1757412000-1757417400@www.desireelowe.com
SUMMARY:Seeing Jesus in Exodus
DESCRIPTION:SEEING JESUS IN EXODUS \nThis Bible study will explore how the Mosaic Law and its sacrificial system\, centered in the Tabernacle\, all foreshadow Christ. We will cultivate a deeper appreciation for these foundational texts through a careful examination of Scripture\, uncovering how God’s redemptive plan is a golden thread woven throughout the grand metanarrative of the Bible\, beckoning us closer to the heart of the Gospel.
URL:https://www.desireelowe.com/event/seeing-jesus-in-exodus-3/
LOCATION:Grace Baptist Church – GSM\, 5920 Beaver Ridge Road\, Knoxville\, TN\, 37931\, United States
END:VEVENT
BEGIN:VEVENT
DTSTART;TZID=America/New_York:20250910T183000
DTEND;TZID=America/New_York:20250910T193000
DTSTAMP:20260420T145120
CREATED:20250730T143114Z
LAST-MODIFIED:20250730T143723Z
UID:391-1757529000-1757532600@www.desireelowe.com
SUMMARY:Becoming a Woman of the Word
DESCRIPTION:
URL:https://www.desireelowe.com/event/becoming-a-woman-of-the-word-5/
LOCATION:Grace Baptist Church – Oak Ridge\, 130 Providence Road\, Oak Ridge\, TN\, 37830\, United States
END:VEVENT
BEGIN:VEVENT
DTSTART;TZID=America/New_York:20250911T183000
DTEND;TZID=America/New_York:20250911T200000
DTSTAMP:20260420T145120
CREATED:20250730T145512Z
LAST-MODIFIED:20250909T002246Z
UID:405-1757615400-1757620800@www.desireelowe.com
SUMMARY:Seeing Jesus in Exodus
DESCRIPTION:This Bible study will explore how the Mosaic Law and its sacrificial system\, centered in the Tabernacle\, all foreshadow Christ. We will cultivate a deeper appreciation for these foundational texts through a careful examination of Scripture\, uncovering how God’s redemptive plan is a golden thread woven throughout the grand metanarrative of the Bible\, beckoning us closer to the heart of the Gospel.
URL:https://www.desireelowe.com/event/seeing-jesus-in-exodus-4/
LOCATION:Grace Baptist Church – GSM\, 5920 Beaver Ridge Road\, Knoxville\, TN\, 37931\, United States
END:VEVENT
BEGIN:VEVENT
DTSTART;TZID=America/New_York:20250916T100000
DTEND;TZID=America/New_York:20250916T113000
DTSTAMP:20260420T145120
CREATED:20250730T145619Z
LAST-MODIFIED:20250909T002349Z
UID:407-1758016800-1758022200@www.desireelowe.com
SUMMARY:Seeing Jesus in Exodus
DESCRIPTION:This Bible study will explore how the Mosaic Law and its sacrificial system\, centered in the Tabernacle\, all foreshadow Christ. We will cultivate a deeper appreciation for these foundational texts through a careful examination of Scripture\, uncovering how God’s redemptive plan is a golden thread woven throughout the grand metanarrative of the Bible\, beckoning us closer to the heart of the Gospel.
URL:https://www.desireelowe.com/event/seeing-jesus-in-exodus-5/
LOCATION:Grace Baptist Church – GSM\, 5920 Beaver Ridge Road\, Knoxville\, TN\, 37931\, United States
END:VEVENT
BEGIN:VEVENT
DTSTART;TZID=America/New_York:20250917T183000
DTEND;TZID=America/New_York:20250917T193000
DTSTAMP:20260420T145120
CREATED:20250730T143256Z
LAST-MODIFIED:20250730T143256Z
UID:393-1758133800-1758137400@www.desireelowe.com
SUMMARY:Becoming a Woman of the Word
DESCRIPTION:
URL:https://www.desireelowe.com/event/becoming-a-woman-of-the-word-6/
LOCATION:Grace Baptist Church – Oak Ridge\, 130 Providence Road\, Oak Ridge\, TN\, 37830\, United States
END:VEVENT
BEGIN:VEVENT
DTSTART;TZID=America/New_York:20250918T183000
DTEND;TZID=America/New_York:20250918T200000
DTSTAMP:20260420T145120
CREATED:20250730T145657Z
LAST-MODIFIED:20250909T002412Z
UID:409-1758220200-1758225600@www.desireelowe.com
SUMMARY:Seeing Jesus in Exodus
DESCRIPTION:This Bible study will explore how the Mosaic Law and its sacrificial system\, centered in the Tabernacle\, all foreshadow Christ. We will cultivate a deeper appreciation for these foundational texts through a careful examination of Scripture\, uncovering how God’s redemptive plan is a golden thread woven throughout the grand metanarrative of the Bible\, beckoning us closer to the heart of the Gospel.
URL:https://www.desireelowe.com/event/seeing-jesus-in-exodus-6/
LOCATION:Grace Baptist Church – GSM\, 5920 Beaver Ridge Road\, Knoxville\, TN\, 37931\, United States
END:VEVENT
BEGIN:VEVENT
DTSTART;TZID=America/New_York:20250923T100000
DTEND;TZID=America/New_York:20250923T113000
DTSTAMP:20260420T145120
CREATED:20250730T145739Z
LAST-MODIFIED:20250909T002440Z
UID:411-1758621600-1758627000@www.desireelowe.com
SUMMARY:Seeing Jesus in Exodus
DESCRIPTION:This Bible study will explore how the Mosaic Law and its sacrificial system\, centered in the Tabernacle\, all foreshadow Christ. We will cultivate a deeper appreciation for these foundational texts through a careful examination of Scripture\, uncovering how God’s redemptive plan is a golden thread woven throughout the grand metanarrative of the Bible\, beckoning us closer to the heart of the Gospel.
URL:https://www.desireelowe.com/event/seeing-jesus-in-exodus-7/
LOCATION:Grace Baptist Church – GSM\, 5920 Beaver Ridge Road\, Knoxville\, TN\, 37931\, United States
END:VEVENT
BEGIN:VEVENT
DTSTART;TZID=America/New_York:20250924T183000
DTEND;TZID=America/New_York:20250924T193000
DTSTAMP:20260420T145120
CREATED:20250730T143346Z
LAST-MODIFIED:20250730T143346Z
UID:395-1758738600-1758742200@www.desireelowe.com
SUMMARY:Becoming a Woman of the Word
DESCRIPTION:
URL:https://www.desireelowe.com/event/becoming-a-woman-of-the-word-7/
LOCATION:Grace Baptist Church – Oak Ridge\, 130 Providence Road\, Oak Ridge\, TN\, 37830\, United States
END:VEVENT
BEGIN:VEVENT
DTSTART;TZID=America/New_York:20250925T183000
DTEND;TZID=America/New_York:20250925T200000
DTSTAMP:20260420T145120
CREATED:20250730T145845Z
LAST-MODIFIED:20250909T002505Z
UID:413-1758825000-1758830400@www.desireelowe.com
SUMMARY:Seeing Jesus in Exodus
DESCRIPTION:This Bible study will explore how the Mosaic Law and its sacrificial system\, centered in the Tabernacle\, all foreshadow Christ. We will cultivate a deeper appreciation for these foundational texts through a careful examination of Scripture\, uncovering how God’s redemptive plan is a golden thread woven throughout the grand metanarrative of the Bible\, beckoning us closer to the heart of the Gospel.
URL:https://www.desireelowe.com/event/seeing-jesus-in-exodus-8/
LOCATION:Grace Baptist Church – GSM\, 5920 Beaver Ridge Road\, Knoxville\, TN\, 37931\, United States
END:VEVENT
BEGIN:VEVENT
DTSTART;TZID=America/New_York:20250930T100000
DTEND;TZID=America/New_York:20250930T113000
DTSTAMP:20260420T145120
CREATED:20250730T145917Z
LAST-MODIFIED:20250909T002558Z
UID:415-1759226400-1759231800@www.desireelowe.com
SUMMARY:Seeing Jesus in Exodus
DESCRIPTION:This Bible study will explore how the Mosaic Law and its sacrificial system\, centered in the Tabernacle\, all foreshadow Christ. We will cultivate a deeper appreciation for these foundational texts through a careful examination of Scripture\, uncovering how God’s redemptive plan is a golden thread woven throughout the grand metanarrative of the Bible\, beckoning us closer to the heart of the Gospel.
URL:https://www.desireelowe.com/event/seeing-jesus-in-exodus-9/
LOCATION:Grace Baptist Church – GSM\, 5920 Beaver Ridge Road\, Knoxville\, TN\, 37931\, United States
END:VEVENT
END:VCALENDAR