BEGIN:VCALENDAR
VERSION:2.0
PRODID:-//Desiree Lowe - Bible Teacher &amp; Speaker - ECPv6.15.20//NONSGML v1.0//EN
CALSCALE:GREGORIAN
METHOD:PUBLISH
X-ORIGINAL-URL:https://www.desireelowe.com
X-WR-CALDESC:Events for Desiree Lowe - Bible Teacher &amp; Speaker
REFRESH-INTERVAL;VALUE=DURATION:PT1H
X-Robots-Tag:noindex
X-PUBLISHED-TTL:PT1H
BEGIN:VTIMEZONE
TZID:America/New_York
BEGIN:DAYLIGHT
TZOFFSETFROM:-0500
TZOFFSETTO:-0400
TZNAME:EDT
DTSTART:20240310T070000
END:DAYLIGHT
BEGIN:STANDARD
TZOFFSETFROM:-0400
TZOFFSETTO:-0500
TZNAME:EST
DTSTART:20241103T060000
END:STANDARD
BEGIN:DAYLIGHT
TZOFFSETFROM:-0500
TZOFFSETTO:-0400
TZNAME:EDT
DTSTART:20250309T070000
END:DAYLIGHT
BEGIN:STANDARD
TZOFFSETFROM:-0400
TZOFFSETTO:-0500
TZNAME:EST
DTSTART:20251102T060000
END:STANDARD
BEGIN:DAYLIGHT
TZOFFSETFROM:-0500
TZOFFSETTO:-0400
TZNAME:EDT
DTSTART:20260308T070000
END:DAYLIGHT
BEGIN:STANDARD
TZOFFSETFROM:-0400
TZOFFSETTO:-0500
TZNAME:EST
DTSTART:20261101T060000
END:STANDARD
END:VTIMEZONE
BEGIN:VEVENT
DTSTART;TZID=America/New_York:20251001T183000
DTEND;TZID=America/New_York:20251001T193000
DTSTAMP:20260420T130902
CREATED:20250730T143424Z
LAST-MODIFIED:20250730T143424Z
UID:397-1759343400-1759347000@www.desireelowe.com
SUMMARY:Becoming a Woman of the Word
DESCRIPTION:
URL:https://www.desireelowe.com/event/becoming-a-woman-of-the-word-8/
LOCATION:Grace Baptist Church – Oak Ridge\, 130 Providence Road\, Oak Ridge\, TN\, 37830\, United States
END:VEVENT
BEGIN:VEVENT
DTSTART;TZID=America/New_York:20251002T183000
DTEND;TZID=America/New_York:20251002T200000
DTSTAMP:20260420T130902
CREATED:20250730T150024Z
LAST-MODIFIED:20250909T002627Z
UID:417-1759429800-1759435200@www.desireelowe.com
SUMMARY:Seeing Jesus in Exodus
DESCRIPTION:This Bible study will explore how the Mosaic Law and its sacrificial system\, centered in the Tabernacle\, all foreshadow Christ. We will cultivate a deeper appreciation for these foundational texts through a careful examination of Scripture\, uncovering how God’s redemptive plan is a golden thread woven throughout the grand metanarrative of the Bible\, beckoning us closer to the heart of the Gospel.
URL:https://www.desireelowe.com/event/seeing-jesus-in-exodus-10/
LOCATION:Grace Baptist Church – GSM\, 5920 Beaver Ridge Road\, Knoxville\, TN\, 37931\, United States
END:VEVENT
BEGIN:VEVENT
DTSTART;TZID=America/New_York:20251021T100000
DTEND;TZID=America/New_York:20251021T113000
DTSTAMP:20260420T130902
CREATED:20250730T150403Z
LAST-MODIFIED:20250909T002703Z
UID:419-1761040800-1761046200@www.desireelowe.com
SUMMARY:Seeing Jesus in Exodus
DESCRIPTION:This Bible study will explore how the Mosaic Law and its sacrificial system\, centered in the Tabernacle\, all foreshadow Christ. We will cultivate a deeper appreciation for these foundational texts through a careful examination of Scripture\, uncovering how God’s redemptive plan is a golden thread woven throughout the grand metanarrative of the Bible\, beckoning us closer to the heart of the Gospel.
URL:https://www.desireelowe.com/event/seeing-jesus-in-exodus-11/
LOCATION:Grace Baptist Church – GSM\, 5920 Beaver Ridge Road\, Knoxville\, TN\, 37931\, United States
END:VEVENT
BEGIN:VEVENT
DTSTART;TZID=America/New_York:20251023T183000
DTEND;TZID=America/New_York:20251023T200000
DTSTAMP:20260420T130902
CREATED:20250730T150437Z
LAST-MODIFIED:20250909T003034Z
UID:421-1761244200-1761249600@www.desireelowe.com
SUMMARY:Seeing Jesus in Exodus
DESCRIPTION:This Bible study will explore how the Mosaic Law and its sacrificial system\, centered in the Tabernacle\, all foreshadow Christ. We will cultivate a deeper appreciation for these foundational texts through a careful examination of Scripture\, uncovering how God’s redemptive plan is a golden thread woven throughout the grand metanarrative of the Bible\, beckoning us closer to the heart of the Gospel.
URL:https://www.desireelowe.com/event/seeing-jesus-in-exodus-12/
LOCATION:Grace Baptist Church – GSM\, 5920 Beaver Ridge Road\, Knoxville\, TN\, 37931\, United States
END:VEVENT
BEGIN:VEVENT
DTSTART;TZID=America/New_York:20251028T100000
DTEND;TZID=America/New_York:20251028T113000
DTSTAMP:20260420T130902
CREATED:20250730T150514Z
LAST-MODIFIED:20250909T003049Z
UID:423-1761645600-1761651000@www.desireelowe.com
SUMMARY:Seeing Jesus in Exodus
DESCRIPTION:This Bible study will explore how the Mosaic Law and its sacrificial system\, centered in the Tabernacle\, all foreshadow Christ. We will cultivate a deeper appreciation for these foundational texts through a careful examination of Scripture\, uncovering how God’s redemptive plan is a golden thread woven throughout the grand metanarrative of the Bible\, beckoning us closer to the heart of the Gospel.
URL:https://www.desireelowe.com/event/seeing-jesus-in-exodus-13/
LOCATION:Grace Baptist Church – GSM\, 5920 Beaver Ridge Road\, Knoxville\, TN\, 37931\, United States
END:VEVENT
BEGIN:VEVENT
DTSTART;TZID=America/New_York:20251030T183000
DTEND;TZID=America/New_York:20251030T200000
DTSTAMP:20260420T130902
CREATED:20250730T150557Z
LAST-MODIFIED:20250909T003105Z
UID:425-1761849000-1761854400@www.desireelowe.com
SUMMARY:Seeing Jesus in Exodus
DESCRIPTION:This Bible study will explore how the Mosaic Law and its sacrificial system\, centered in the Tabernacle\, all foreshadow Christ. We will cultivate a deeper appreciation for these foundational texts through a careful examination of Scripture\, uncovering how God’s redemptive plan is a golden thread woven throughout the grand metanarrative of the Bible\, beckoning us closer to the heart of the Gospel.
URL:https://www.desireelowe.com/event/seeing-jesus-in-exodus-14/
LOCATION:Grace Baptist Church – GSM\, 5920 Beaver Ridge Road\, Knoxville\, TN\, 37931\, United States
END:VEVENT
END:VCALENDAR