BEGIN:VCALENDAR
VERSION:2.0
PRODID:-//Desiree Lowe - Bible Teacher &amp; Speaker - ECPv6.15.20//NONSGML v1.0//EN
CALSCALE:GREGORIAN
METHOD:PUBLISH
X-WR-CALNAME:Desiree Lowe - Bible Teacher &amp; Speaker
X-ORIGINAL-URL:https://www.desireelowe.com
X-WR-CALDESC:Events for Desiree Lowe - Bible Teacher &amp; Speaker
REFRESH-INTERVAL;VALUE=DURATION:PT1H
X-Robots-Tag:noindex
X-PUBLISHED-TTL:PT1H
BEGIN:VTIMEZONE
TZID:America/New_York
BEGIN:DAYLIGHT
TZOFFSETFROM:-0500
TZOFFSETTO:-0400
TZNAME:EDT
DTSTART:20250309T070000
END:DAYLIGHT
BEGIN:STANDARD
TZOFFSETFROM:-0400
TZOFFSETTO:-0500
TZNAME:EST
DTSTART:20251102T060000
END:STANDARD
BEGIN:DAYLIGHT
TZOFFSETFROM:-0500
TZOFFSETTO:-0400
TZNAME:EDT
DTSTART:20260308T070000
END:DAYLIGHT
BEGIN:STANDARD
TZOFFSETFROM:-0400
TZOFFSETTO:-0500
TZNAME:EST
DTSTART:20261101T060000
END:STANDARD
BEGIN:DAYLIGHT
TZOFFSETFROM:-0500
TZOFFSETTO:-0400
TZNAME:EDT
DTSTART:20270314T070000
END:DAYLIGHT
BEGIN:STANDARD
TZOFFSETFROM:-0400
TZOFFSETTO:-0500
TZNAME:EST
DTSTART:20271107T060000
END:STANDARD
END:VTIMEZONE
BEGIN:VEVENT
DTSTART;TZID=America/New_York:20260317T103000
DTEND;TZID=America/New_York:20260317T120000
DTSTAMP:20260420T044725
CREATED:20251125T025516Z
LAST-MODIFIED:20251125T025516Z
UID:514-1773743400-1773748800@www.desireelowe.com
SUMMARY:Seeing Jesus in Exodus
DESCRIPTION:This Bible study will explore how the Mosaic Law and its sacrificial system\, centered in the Tabernacle\, all foreshadow Christ. We will cultivate a deeper appreciation for these foundational texts through a careful examination of Scripture\, uncovering how God’s redemptive plan is a golden thread woven throughout the grand metanarrative of the Bible\, beckoning us closer to the heart of the Gospel.
URL:https://www.desireelowe.com/event/seeing-jesus-in-exodus-23/
LOCATION:Grace Baptist Church – GSM\, 5920 Beaver Ridge Road\, Knoxville\, TN\, 37931\, United States
END:VEVENT
BEGIN:VEVENT
DTSTART;TZID=America/New_York:20260319T183000
DTEND;TZID=America/New_York:20260319T200000
DTSTAMP:20260420T044725
CREATED:20251125T030007Z
LAST-MODIFIED:20251125T030007Z
UID:536-1773945000-1773950400@www.desireelowe.com
SUMMARY:Seeing Jesus in Exodus
DESCRIPTION:This Bible study will explore how the Mosaic Law and its sacrificial system\, centered in the Tabernacle\, all foreshadow Christ. We will cultivate a deeper appreciation for these foundational texts through a careful examination of Scripture\, uncovering how God’s redemptive plan is a golden thread woven throughout the grand metanarrative of the Bible\, beckoning us closer to the heart of the Gospel.
URL:https://www.desireelowe.com/event/seeing-jesus-in-exodus-34/
LOCATION:Grace Baptist Church – GSM\, 5920 Beaver Ridge Road\, Knoxville\, TN\, 37931\, United States
END:VEVENT
BEGIN:VEVENT
DTSTART;TZID=America/New_York:20260331T100000
DTEND;TZID=America/New_York:20260331T113000
DTSTAMP:20260420T044725
CREATED:20260320T181656Z
LAST-MODIFIED:20260320T181853Z
UID:596-1774951200-1774956600@www.desireelowe.com
SUMMARY:The Greatest Commandment
DESCRIPTION:
URL:https://www.desireelowe.com/event/the-greatest-commandment/
LOCATION:Grace Baptist Church – GSM\, 5920 Beaver Ridge Road\, Knoxville\, TN\, 37931\, United States
END:VEVENT
END:VCALENDAR